Workbook
Name _GoBack: NA()
Name _xlfn_SINGLE: NA()
Name Excel_BuiltIn_Print_Area: NA()
Name Excel_BuiltIn_Print_Area: NA()
Name Excel_BuiltIn_Print_Area: NA()
Name Excel_BuiltIn_Print_Area: NA()

Sheet Budget Instructions
A1: Attachment B1 Budget Instructions
A2: ATTACHMENT B
A3: CALIFORNIA’S ACCESS TO VISITATION (AV) GRANT PROGRAM
A5: GRANT APPLICATION PROPOSALS FOR
A6: FISCAL YEAR 2027–2028
A8: BUDGET INSTRUCTIONS AND COURT/SUBCONTRACTOR FORM
A10: Each court and any of its subcontractors is required to submit a grant program budget and written budget justification narrative as part of the grant application proposal. The budget and budget narrative should include a detailed description that explains the proposed cost expenditures for each of the AV grant service areas. The budget will assist Judicial Council program staff determine the reasonableness and cost-effectiveness for the proposed grant program tasks and activities. Costs must be within allowable cost categories and reimbursement guidelines. The court and subcontractors budget is the proposed funding allocation plan that shows how grant funds will be spent during the grant-funding period. Contract agreements between the Judicial Council and the superior court is made for one year only; renewable subject to the availability of federal funding.
A12: The sample budget form and budget justification narratives provide applicants with guidance on how to complete Attachment B1, the court/subcontractor budget form. Applicants should review the Uniform Administrative Requirements, Cost Principles, and Audit Requirements for Federal Awards at 2 CFR Part 200 (https://www.ecfr.gov/current/title-2/part-200), which the U.S. Department of Health and Human Services adopted effective October 1, 2024, replacing 45 CFR Part 75, to determine allowable and unallowable costs.
A14: However, the AV program may not reimburse the court/subcontractor for certain allowable cost categories outlined in the 2 CFR Part 200 cost principles because of funding limitations.
A16: Reimbursement under the grant program is based on actual costs. Pursuant to the contract agreement, if the court is awarded grant funding, the court will need to have a written agreement with their subcontractor and a copy of this agreement between the court and its subcontractors need to be submitted to Judicial Council grant accountant staff at the time invoices are submitted for reimbursement.
A18: BUDGET LINE ITEM REIMBURSABLE CATEGORIES
A19: NOTE: Please do not change the “Date” on the Court and Subcontractor Budget Form. The date of April 1, 2027 is the starting date of the AV funding period and contract agreement effective date. Please note that the budget form will require different information for the court budget form versus the subcontractor budget form.
... A104: The court/subcontractor must comply with the federal program income requirements at 2 CFR 200.307, including certification of compliance during the funding fiscal year. The court/subcontractor should carefully review 2 CFR 200.307 at https://www.ecfr.gov/current/title-2/part-200/section-200.307.

Sheet Applicant Court
A1: Applicant Court Budget Form
A2: CALIFORNIA’S ACCESS TO VISITATION GRANT PROGRAM FOR ENHANCING
A3: RESPONSIBILITY AND OPPORTUNITY FOR NONRESIDENTIAL PARENTS
A6: Fiscal Year 2027–2028
A7: BUDGET FORM AND BUDGET JUSTIFICATION NARRATIVE
A9: APPLICANT COURT BUDGET SUMMARY FORM
A11: Fill in the outlined (red-bordered) entry cells only
A12: Applicant Court:
A13: Court Fiscal Contact (Name & Title) | C13: Phone Number:
C14: Email Address:
A15: Date: | B15: 46478
A16: If have more than three subcontractors, STOP and contact Jodi.Mulligan-Pfile@jud.ca.gov for different Budget Form.
A17: Please note there is a 20% matching funds requirement
A18: Budget Categories | C18: Access to Visitation (AV) Funds | D18: Match | E18: Program Income
A19: Salaries | C19: =D49 -> 0 | D19: =E49 -> 0
A20: Fringe Benefits | C20: =D64 -> 0 | D20: =E64 -> 0
A21: Training and Travel Expenses | C21: =D77 -> 0 | D21: =E77 -> 0
A22: Other Direct Costs | C22: =D89 -> 0 | D22: =E89 -> 0
A23: Contractual & Consultant Services | C23: ='Subcontractor #1'!C72+'Subcontractor #2'!C79+'Subcontractor #3'!C82 -> 0 | D23: ='Subcontractor #1'!D72+'Subcontractor #2'!D79+'Subcontractor #3'!D82 -> 0 | E23: ='Subcontractor #1'!E72+'Subcontractor #2'!E79+'Subcontractor #3'!E82 -> 0
A24: Indirect Costs | C24: =D107 -> 0 | D24: =E107 -> 0
A25: TOTAL | C25: =SUM(C19:C24) -> 0 | D25: =SUM(D19:D24) -> 0 | E25: =E23 -> 0
A27: ACCESS TO VISITATION GRANT PROGRAM
A29: APPLICANT COURT BUDGET FORM AND JUSTIFICATION NARRATIVE
A30: Fiscal Year 2027–2028
A32: Applicant Court: | B32: =B12 -> 0
A33: Court Fiscal Contact (Name & Title) | B33: =B13 -> 0 | C33: Phone Number: | D33: =D13 -> 0
C34: Email Address: | D34: =D14 -> 0
A35: Date: | B35: =B15 -> 46478
A37: Instructions: There is a 20% non-federal matching funds requirement for the grant. The match can be cash or in- kind. Match must meet allowable cost criteria. Describe the source of the match and projected costs to meet the match requirement.
A38: SALARIES
A39: Instructions: This budget category should include salaries for individuals/employee of the court whose work is related to the administration and operation of the grant program. See the budget instructions for additoinal guidance.
A40: Populate rows 42-44 for AV Funds and populate rows 45-48 for Match)
A41: Position | B41: Annual Salary (or Hourly Rate) | C41: FTE (or No. of Hours) | D41: AV Funds | E41: Match
D42: =B42*C42 -> 0
D43: =B43*C43 -> 0
D44: =B44*C44 -> 0
E45: =B45*C45 -> 0
E46: =B46*C46 -> 0
E47: =B47*C47 -> 0
E48: =B48*C48 -> 0
...

Sheet Subcontractor #1
A1: ACCESS TO VISITATION GRANT PROGRAM
A2: SUBCONTRACTOR AGENCY BUDGET FORM AND BUDGET JUSTIFICATION NARRATIVE
A3: Fiscal Year 2027–2028
A4: Fill in the outlined (red-bordered) entry cells only
A5: Applicant Court: | B5: ='Applicant Court'!B12 -> 0
A6: Court Fiscal Contact (Name & Title) | B6: ='Applicant Court'!B13 -> 0 | C6: Phone Number: | D6: ='Applicant Court'!D13 -> 0
C7: E-Mail Address: | D7: ='Applicant Court'!D14 -> 0
A8: Subcontractor Agency Name: | B8: ='Applicant Court'!A94 -> 0
A9: Subcontractor Contact (Name & Title) | C9: Phone Number:
C10: E-Mail Address:
A11: Date: | B11: ='Applicant Court'!B15 -> 46478
A13: Subcontractor Hourly Costs
A14: Instructions: This budget category should include a flat hourly rate for individual whose work is related to the administration and operation of the grant program. Use the hourly rate for computations. See the budget instructions for additional guidance. (Rows 16-25 for AV funds; Rows 26-34 for Match.)
A15: Position | B15: Hourly Rate | C15: Hours | D15: AV Funds | E15: Match (Rows 26-34)
D16: =B16*C16 -> 0
D17: =B17*C17 -> 0
D18: =B18*C18 -> 0
D19: =B19*C19 -> 0
D20: =B20*C20 -> 0
D21: =B21*C21 -> 0
D22: =B22*C22 -> 0
D23: =B23*C23 -> 0
D24: =B24*C24 -> 0
D25: =B25*C25 -> 0
E26: =B26*C26 -> 0
E27: =B27*C27 -> 0
E28: =B28*C28 -> 0
E29: =B29*C29 -> 0
E30: =B30*C30 -> 0
E31: =B31*C31 -> 0
E32: =B32*C32 -> 0
E33: =B33*C33 -> 0
E34: =B34*C34 -> 0
A35: TOTAL | D35: =SUM(D16:D34) -> 0 | E35: =SUM(E16:E34) -> 0
A36: BUDGET JUSTIFICATION: Describe the role and responsibilities of each position.
A38: TRAINING AND TRAVEL EXPENSES
A39: Instructions: Training expenses and related travel costs shall not exceed Judicial Council approved rates. The Access to Visitation Grant will not reimburse grantees to attend non-Judicial Council sponsored conferences or trainings. Include required Family Code Section 3200.5/Standard 5.20 training, if applicable, as well as mandatory grantee meetings. See the budget instructions for additional guidance.
A40: Purpose Of Travel | D40: AV Funds | E40: Match
A46: TOTAL | D46: =SUM(D41:D45) -> 0 | E46: =SUM(E41:E45) -> 0
A48: BUDGET JUSTIFICATION: Describe the purpose of the travel, type of trainig or meeting, number of attendees and staff positions, and related costs for training and travel (e.g., air, hotel, parking, meals, mileage, etc.).
...

Sheet Subcontractor #2
A1: ACCESS TO VISITATION GRANT PROGRAM
A2: SUBCONTRACTOR AGENCY BUDGET FORM AND BUDGET JUSTIFICATION NARRATIVE
A3: Fiscal Year 2027–2028
A4: Fill in the outlined (red-bordered) entry cells only
A5: Applicant Court: | B5: ='Applicant Court'!B32 -> 0
A6: Court Fiscal Contact (Name & Title) | B6: ='Applicant Court'!B33 -> 0 | C6: Phone Number: | D6: ='Applicant Court'!D13 -> 0
C7: E-Mail Address: | D7: ='Applicant Court'!D14 -> 0
A8: Subcontractor Agency Name: | B8: ='Applicant Court'!A95 -> 0
A9: Subcontractor Contact (Name & Title) | C9: Phone Number:
C10: E-Mail Address:
A11: Date: | B11: ='Applicant Court'!B35 -> 46478
A13: Subcontractor Hourly Costs
A14: Instructions: This budget category should include a flat hourly rate for individual whose work is related to the administration and operation of the grant program. Use the hourly rate for computations. See the budget instructions for additional guidance. (Rows 16-25 for AV funds; Rows 26-34 for Match.)
A15: Position | B15: Hourly Rate | C15: Hours | D15: AV Funds | E15: Match (Rows 26-34)
D16: =B16*C16 -> 0
D17: =B17*C17 -> 0
D18: =B18*C18 -> 0
D19: =B19*C19 -> 0
D20: =B20*C20 -> 0
D21: =B21*C21 -> 0
D22: =B22*C22 -> 0
D23: =B23*C23 -> 0
D24: =B24*C24 -> 0
D25: =B25*C25 -> 0
E26: =B26*C26 -> 0
E27: =B27*C27 -> 0
E28: =B28*C28 -> 0
E29: =B29*C29 -> 0
E30: =B30*C30 -> 0
E31: =B31*C31 -> 0
E32: =B32*C32 -> 0
E33: =B33*C33 -> 0
E34: =B34*C34 -> 0
A35: TOTAL | D35: =SUM(D16:D34) -> 0 | E35: =SUM(E16:E34) -> 0
A37: BUDGET JUSTIFICATION: Describe the role and responsibilities of each position.
A40: TRAINING AND TRAVEL EXPENSES
A41: Instructions: Training expenses and related travel costs shall not exceed Judicial Council approved rates. The Access to Visitation Grant will not be able to reimburse grantees to attend non-Judicial Council sponsored conferences or trainings. Include required Family Code Section 3200.5/Standard 5.20 training , if applicable, as well as mandatory grantee meetings. See the budget instructions for additional gudiance.
A42: Purpose Of Travel | D42: AV Funds | E42: Match
A48: TOTAL | D48: =SUM(D43:D47) -> 0 | E48: =SUM(E43:E47) -> 0
A50: BUDGET JUSTIFICATION: Describe the purpose of the travel, type of training or meeting, number of attendees, and staff positions, and related costs for training and travel (e.g., air, hotel, parking, meals, mileage, etc.).
...

Sheet Subcontractor #3
A1: ACCESS TO VISITATION GRANT PROGRAM
A2: SUBCONTRACTOR AGENCY BUDGET FORM AND BUDGET JUSTIFICATION NARRATIVE
A3: Fiscal Year 2027–2028
A4: Fill in the outlined (red-bordered) entry cells only
A5: Applicant Court: | B5: ='Applicant Court'!B32 -> 0
A6: Court Fiscal Contact (Name & Title) | B6: ='Applicant Court'!B33 -> 0 | C6: Phone Number: | D6: ='Applicant Court'!D13 -> 0
C7: E-Mail Address: | D7: ='Applicant Court'!D14 -> 0
A8: Subcontractor Agency Name: | B8: ='Applicant Court'!A96 -> 0
A9: Subcontractor Contact (Name & Title) | C9: Phone Number:
C10: E-Mail Address:
A11: Date: | B11: ='Applicant Court'!B35 -> 46478
A13: Subcontractor Hourly Costs
A14: Instructions: This budget category should include a flat hourly rate for individual whose work is related to the administration and operation of the grant program. Use the hourly rate for computations. See the budget instructions for additional guidance. (Rows 16-25 for AV funds; Rows 26-34 for Match.)
A15: Position | B15: Hourly Rate | C15: Hours | D15: AV Funds | E15: Match (Rows 26-34)
D16: =B16*C16 -> 0
D17: =B17*C17 -> 0
D18: =B18*C18 -> 0
D19: =B19*C19 -> 0
D20: =B20*C20 -> 0
D21: =B21*C21 -> 0
D22: =B22*C22 -> 0
D23: =B23*C23 -> 0
D24: =B24*C24 -> 0
D25: =B25*C25 -> 0
E26: =B26*C26 -> 0
E27: =B27*C27 -> 0
E28: =B28*C28 -> 0
E29: =B29*C29 -> 0
E30: =B30*C30 -> 0
E31: =B31*C31 -> 0
E32: =B32*C32 -> 0
E33: =B33*C33 -> 0
E34: =B34*C34 -> 0
A35: TOTAL | D35: =SUM(D16:D34) -> 0 | E35: =SUM(E16:E34) -> 0
A37: BUDGET JUSTIFICATION: Describe the role and responsibilities of each position.
A40: TRAINING AND TRAVEL EXPENSES
A41: Instructions: Training expenses and related travel costs shall not exceed Judicial Council approved rates. The Access to Visitation Grant will not be able to reimburse grantees to attend non-Judicial Council sponsored conferences or trainings. Include required Family Code Section 3200.5/Standard 5.20 training , if applicable, as well as mandatory grantee meetings. See the budget instructions for additional gudiance.
A42: Purpose Of Travel | D42: AV Funds | E42: Match
A48: TOTAL | D48: =SUM(D43:D47) -> 0 | E48: =SUM(E43:E47) -> 0
A50: BUDGET JUSTIFICATION: Describe the purpose of the travel, type of training or meeting, number of attendees, and staff positions, and related costs for training and travel (e.g., air, hotel, parking, meals, mileage, etc.).
...
